BEGIN:VCALENDAR
VERSION:2.0
PRODID:-//eventon.com NONSGML v1.0//EN
CALSCALE:GREGORIAN
METHOD:PUBLISH
BEGIN:VEVENT
UID:69e513986a28f
DTSTAMP:20260419T174040Z
DTSTART:20260112T160000Z
DTEND:20260116T230000Z
LOCATION:Centro de Entrenamiento Savant Bella Vista Av. Sarasota 62. Local 18B Bella Vista Mall\, 
SUMMARY:CompTIA DataX
DESCRIPTION:CompTIA DataX es la certificación líder para profesionales co
 n amplia experiencia que buscan validar su competencia en el campo de la ci
 encia de datos\,  en constante evolución. DataX le proporciona las habilid
 ades necesarias para demostrar con precisión y seguridad su experiencia en
  el manejo de conjuntos de datos complejos\,  la[..]\nhttps://savant.com.do
 /events/comptia-datax/
URL:https://savant.com.do/events/comptia-datax/
END:VEVENT
END:VCALENDAR